BEGIN:VCALENDAR
VERSION:2.0
PRODID:-//Ohio Association of Boards of Health - ECPv6.6.4.2//NONSGML v1.0//EN
CALSCALE:GREGORIAN
METHOD:PUBLISH
X-ORIGINAL-URL:https://www.oabh.org
X-WR-CALDESC:Events for Ohio Association of Boards of Health
REFRESH-INTERVAL;VALUE=DURATION:PT1H
X-Robots-Tag:noindex
X-PUBLISHED-TTL:PT1H
BEGIN:VTIMEZONE
TZID:America/New_York
BEGIN:DAYLIGHT
TZOFFSETFROM:-0500
TZOFFSETTO:-0400
TZNAME:EDT
DTSTART:20240310T070000
END:DAYLIGHT
BEGIN:STANDARD
TZOFFSETFROM:-0400
TZOFFSETTO:-0500
TZNAME:EST
DTSTART:20241103T060000
END:STANDARD
END:VTIMEZONE
BEGIN:VEVENT
DTSTART;TZID=America/New_York:20240328T180000
DTEND;TZID=America/New_York:20240328T193000
DTSTAMP:20260423T194351
CREATED:20240102T182711Z
LAST-MODIFIED:20240109T211153Z
UID:334-1711648800-1711654200@www.oabh.org
SUMMARY:OABH Board Monthly Meeting
DESCRIPTION:
URL:https://www.oabh.org/event/oabh-board-monthly-meeting-march-2024/
LOCATION:Virtual Board Meeting
CATEGORIES:Board Meeting
END:VEVENT
END:VCALENDAR